Workbook

Sheet TÝMY
B1: 16.8.2026 Memoriál Josefa Saláta
B2: KLUB | C2: NÁZEV TÝMU | D2: SOUTĚŽ | E2: KONTAKT | F2: EMAIL | G2: MOBIL | H2: TELEFON
A3: 1. | B3: Vamos Rafa | C3: MUŽI | D3: OKRESNÍ SOUTĚŽ | E3: Smetana Jakub | F3: 1200
A4: 2. | B4: Gin&Tonic | C4: MUŽI | D4: LIGA | E4: Tomáš Kaloč | F4: 1200
A5: 3. | B5: Lovci Tesáků | C5: MUŽI | D5: LIGA | E5: Adámek Václav | F5: 1200
A6: 4. | B6: Palkovice | C6: MUŽI | D6: OKRESNÍ SOUTĚŽ | E6: Mičulka Jan | F6: 1200
A7: 5. | B7: Valmezáci | C7: MUŽI | D7: LIGA | E7: Juřík David | F7: 1200
A8: 6. | B8: Moravská sebranka | C8: MUŽI | D8: OKRESNÍ SOUTĚŽ | E8: Drozd Josef | F8: 1200
A9: 7. | B9: Metylky | C9: MUŽI | D9: OKRESNÍ SOUTĚŽ | E9: Suchan Pavel | F9: 1200
A10: 8. | B10: Green Volley Frýdek Místek | C10: MUŽI | D10: LIGA | E10: Aleš Pustějovský | F10: 1200
A11: 9. | B11: Zverimex u suchý dásně | C11: MUŽI | D11: 2 liga | E11: František Hula | F11: 1200
A12: 10. | B12: Raškovice | C12: MUŽI

Sheet Seznam
B1: 16.8.2026 Memoriál Josefa Saláta
B2: KLUB | C2: vklad
A3: 1. | B3: Vamos Rafa | C3: 1200
A4: 2. | B4: SK Metylovice | C4: 1200
A5: 3. | B5: PÚCHOV | C5: 1200
A6: 4. | B6: Green Volley Beskydy | C6: 1200
A7: 5. | B7: Green Volley Frýdek-Místek | C7: 1200
A8: 6. | B8: Red Volley Frýdlant n/O, z.s. | C8: 1200
A9: 7. | B9: Volejbal Ostrava | C9: 1200
A10: 8. | B10: VK Valašské Meziříčí | C10: 1200
A11: 9. | B11: Beskydy / Palkovice | C11: 1200
B12: Celkem | C12: =SUM(C3:C11) -> 10800

Sheet A-5 členná skupina
B2: Skupina č.A | C2: =B4 -> Raškovice | F2: =B9 -> Metylky | I2: =B14 -> Vamos Rafa | L2: =B19 -> Zverimex u suchý dásně | O2: =B24 -> Moravská sebranka | R2: Sety | U2: Body | V2: Poměr | W2: Umístění | Y2: Pořadí utkání | AB2: Sety | AE2: 1. set | AH2: 2. set | AK2: 3. set | AN2: Míče
R3: Míče | Y3: =B9 -> Metylky | Z3: - | AA3: =B24 -> Moravská sebranka | AB3: 1 | AC3: : | AD3: 1 | AE3: 25 | AF3: : | AG3: 24 | AH3: 23 | AI3: : | AJ3: 25 | AL3: : | AN3: =AE3+AH3+AK3 -> 48 | AO3: : | AP3: =AG3+AJ3+AM3 -> 49 | AQ3: 5 Antušák
A4: B | B4: =TÝMY!B12 -> Raškovice | F4: =AB5 -> 0 | G4: : | H4: =AD5 -> 2 | I4: =AD8 -> 0 | J4: : | K4: =AB8 -> 2 | L4: =AB10 -> 0 | M4: : | N4: =AD10 -> 2 | O4: =AD11 -> 0 | P4: : | Q4: =AB11 -> 2 | R4: =F4+I4+L4+O4 -> 0 | S4: : | T4: =H4+K4+N4+Q4 -> 8 | U4: =R4 -> 0 | V4: =R7/T7 -> 0.675 | W4: 5 | Y4: =B14 -> Vamos Rafa | Z4: - | AA4: =B19 -> Zverimex u suchý dásně | AB4: 2 | AC4: : | AD4: 0 | AE4: 25 | AF4: : | AG4: 15 | AH4: 25 | AI4: : | AJ4: 22 | AL4: : | AN4: =AE4+AH4+AK4 -> 50 | AO4: : | AP4: =AG4+AJ4+AM4 -> 37 | AQ4: 4 Ištvánech
F5: =AE5 -> 18 | G5: : | H5: =AG5 -> 25 | I5: =AG8 -> 16 | J5: : | K5: =AE8 -> 25 | L5: =AE10 -> 17 | M5: : | N5: =AG10 -> 25 | O5: =AG11 -> 14 | P5: : | Q5: =AE11 -> 25 | Y5: =B4 -> Raškovice | Z5: - | AA5: =B9 -> Metylky | AB5: 0 | AC5: : | AD5: 2 | AE5: 18 | AF5: : | AG5: 25 | AH5: 20 | AI5: : | AJ5: 25 | AL5: : | AN5: =AE5+AH5+AK5 -> 38 | AO5: : | AP5: =AG5+AJ5+AM5 -> 50 | AQ5: 4 Grabo vský
F6: =AH5 -> 20 | G6: : | H6: =AJ5 -> 25 | I6: =AJ8 -> 12 | J6: : | K6: =AH8 -> 25 | L6: =AH10 -> 20 | M6: : | N6: =AJ10 -> 25 | O6: =AJ11 -> 18 | P6: : | Q6: =AH11 -> 25 | Y6: =B24 -> Moravská sebranka | Z6: - | AA6: =B14 -> Vamos Rafa | AB6: 0 | AC6: : | AD6: 2 | AE6: 17 | AF6: : | AG6: 25 | AH6: 17 | AI6: : | AJ6: 25 | AL6: : | AN6: =AE6+AH6+AK6 -> 34 | AO6: : | AP6: =AG6+AJ6+AM6 -> 50 | AQ6: 5 Ištvánech
F7: =AK5 -> 0 | G7: : | H7: =AM5 -> 0 | I7: =AM8 -> 0 | J7: : | K7: =AK8 -> 0 | L7: =AK10 -> 0 | M7: : | N7: =AM10 -> 0 | O7: =AM11 -> 0 | P7: : | Q7: =AK11 -> 0 | R7: =F8+I8+L8+O8 -> 135 | S7: : | T7: =H8+K8+N8+Q8 -> 200 | Y7: =B19 -> Zverimex u suchý dásně | Z7: - | AA7: =B24 -> Moravská sebranka | AB7: 0 | AC7: : | AD7: 2 | AE7: 17 | AF7: : | AG7: 25 | AH7: 23 | AI7: : | AJ7: 25 | AL7: : | AN7: =AE7+AH7+AK7 -> 40 | AO7: : | AP7: =AG7+AJ7+AM7 -> 50 | AQ7: 5 Grabovský
F8: =SUM(F5:F7) -> 38 | G8: : | H8: =SUM(H5:H7) -> 50 | I8: =SUM(I5:I7) -> 28 | J8: : | K8: =SUM(K5:K7) -> 50 | L8: =SUM(L5:L7) -> 37 | M8: : | N8: =SUM(N5:N7) -> 50 | O8: =O5+O6+O7 -> 32 | P8: : | Q8: =SUM(Q5:Q7) -> 50 | Y8: =B14 -> Vamos Rafa | Z8: - | AA8: =B4 -> Raškovice | AB8: 2 | AC8: : | AD8: 0 | AE8: 25 | AF8: : | AG8: 16 | AH8: 25 | AI8: : | AJ8: 12 | AL8: : | AN8: =AE8+AH8+AK8 -> 50 | AO8: : | AP8: =AG8+AJ8+AM8 -> 28 | AQ8: 4 Klívar
B9: =TÝMY!B9 -> Metylky | C9: =H4 -> 2 | D9: : | E9: =F4 -> 0 | I9: =AB9 -> 0 | J9: : | K9: =AD9 -> 2 | L9: =AD12 -> 2 | M9: : | N9: =AB12 -> 0 | O9: =AB3 -> 1 | P9: : | Q9: =AD3 -> 1 | R9: =O9+L9+I9+C9 -> 5 | S9: : | T9: =Q9+N9+K9+E9 -> 3 | U9: =R9 -> 5 | V9: =R12/T12 -> 0.9197861 | W9: 3 | Y9: =B9 -> Metylky | Z9: - | AA9: =B14 -> Vamos Rafa | AB9: 0 | AC9: : | AD9: 2 | AE9: 14 | AF9: : | AG9: 25 | AH9: 21 | AI9: : | AJ9: 25 | AL9: : | AN9: =AE9+AH9+AK9 -> 35 | AO9: : | AP9: =AG9+AJ9+AM9 -> 50 | AQ9: 2 Grabovský
C10: =H5 -> 25 | D10: : | E10: =F5 -> 18 | I10: =AE9 -> 14 | J10: : | K10: =AG9 -> 25 | L10: =AG12 -> 17 | M10: : | N10: =AE12 -> 25 | O10: =AE3 -> 25 | P10: : | Q10: =AG3 -> 24 | Y10: =B4 -> Raškovice | Z10: - | AA10: =B19 -> Zverimex u suchý dásně | AB10: 0 | AC10: : | AD10: 2 | AE10: 17 | AF10: : | AG10: 25 | AH10: 20 | AI10: : | AJ10: 25 | AL10: : | AN10: =AE10+AH10+AK10 -> 37 | AO10: : | AP10: =AG10+AJ10+AM10 -> 50 | AQ10: 4 Antušák
C11: =H6 -> 25 | D11: : | E11: =F6 -> 20 | I11: =AH9 -> 21 | J11: : | K11: =AJ9 -> 25 | L11: =AJ12 -> 22 | M11: : | N11: =AH12 -> 25 | O11: =AH3 -> 23 | P11: : | Q11: =AJ3 -> 25 | Y11: =B24 -> Moravská sebranka | Z11: - | AA11: =B4 -> Raškovice | AB11: 2 | AC11: : | AD11: 0 | AE11: 25 | AF11: : | AG11: 14 | AH11: 25 | AI11: : | AJ11: 18 | AL11: : | AN11: =AE11+AH11+AK11 -> 50 | AO11: : | AP11: =AG11+AJ11+AM11 -> 32 | AQ11: 4 Topolánek
C12: =H7 -> 0 | D12: : | E12: =F7 -> 0 | I12: =AK9 -> 0 | J12: : | K12: =AM9 -> 0 | L12: =AM12 -> 0 | M12: : | N12: =AK12 -> 0 | O12: =AK3 -> 0 | P12: : | Q12: =AM3 -> 0 | R12: =O13+L13+I13+C13 -> 172 | S12: : | T12: =Q13+N13++K13+E13 -> 187 | Y12: =B19 -> Zverimex u suchý dásně | Z12: - | AA12: =B9 -> Metylky | AB12: 0 | AC12: : | AD12: 2 | AE12: 25 | AF12: : | AG12: 17 | AH12: 25 | AI12: : | AJ12: 22 | AL12: : | AN12: =AE12+AH12+AK12 -> 50 | AO12: : | AP12: =AG12+AJ12+AM12 -> 39 | AQ12: 2 Antušák
C13: =SUM(C10:C12) -> 50 | D13: : | E13: =SUM(E10:E12) -> 38 | I13: =SUM(I10:I12) -> 35 | J13: : | K13: =SUM(K10:K12) -> 50 | L13: =SUM(L10:L12) -> 39 | M13: : | N13: =AN12 -> 50 | O13: =SUM(O10:O12) -> 48 | P13: : | Q13: =SUM(Q10:Q12) -> 49
B14: =TÝMY!B3 -> Vamos Rafa | C14: =K4 -> 2 | D14: : | E14: =I4 -> 0 | F14: =K9 -> 2 | G14: : | H14: =I9 -> 0 | L14: =AB4 -> 2 | M14: : | N14: =AD4 -> 0 | O14: =AD6 -> 2 | P14: : | Q14: =AB6 -> 0 | R14: =O14+L14+F14+C14 -> 8 | S14: : | T14: =Q14+N14+H14+E14 -> 0 | U14: =R14 -> 8 | V14: =R17/T17 -> 1.4925373 | W14: 1
C15: =K5 -> 25 | D15: : | E15: =I5 -> 16 | F15: =K10 -> 25 | G15: : | H15: =I10 -> 14 | L15: =AE4 -> 25 | M15: : | N15: =AG4 -> 15 | O15: =AG6 -> 25 | P15: : | Q15: =AE6 -> 17
C16: =K6 -> 25 | D16: : | E16: =I6 -> 12 | F16: =K11 -> 25 | G16: : | H16: =I11 -> 21 | L16: =AH4 -> 25 | M16: : | N16: =AJ4 -> 22 | O16: =AJ6 -> 25 | P16: : | Q16: =AH6 -> 17
C17: =K7 -> 0 | D17: : | E17: =I7 -> 0 | F17: =K12 -> 0 | G17: : | H17: =I12 -> 0 | L17: =AK4 -> 0 | M17: : | N17: =AM4 -> 0 | O17: =AM6 -> 0 | P17: : | Q17: =AK6 -> 0 | R17: =O18+L18+F18+C18 -> 200 | S17: : | T17: =Q18+N18+H18+E18 -> 134
C18: =SUM(C15:C17) -> 50 | D18: : | E18: =SUM(E15:E17) -> 28 | F18: =SUM(F15:F17) -> 50 | G18: : | H18: =SUM(H15:H17) -> 35 | L18: =SUM(L15:L17) -> 50 | M18: : | N18: =SUM(N15:N17) -> 37 | O18: =SUM(O15:O17) -> 50 | P18: : | Q18: =SUM(Q15:Q17) -> 34
B19: =TÝMY!B11 -> Zverimex u suchý dásně | C19: =N4 -> 2 | D19: : | E19: =L4 -> 0 | F19: =N9 -> 0 | G19: : | H19: =L9 -> 2 | I19: =N14 -> 0 | J19: : | K19: =L14 -> 2 | O19: =AB7 -> 0 | P19: : | Q19: =AD7 -> 2 | R19: =O19+I19+F19+C19 -> 2 | S19: : | T19: =Q19+K19+H19+E19 -> 6 | U19: =R19 -> 2 | V19: =R22/T22 -> 1.0056818 | W19: 4
C20: =N5 -> 25 | D20: : | E20: =L5 -> 17 | F20: =N10 -> 25 | G20: : | H20: =L10 -> 17 | I20: =N15 -> 15 | J20: : | K20: =L15 -> 25 | O20: =AE7 -> 17 | P20: : | Q20: =AG7 -> 25
C21: =N6 -> 25 | D21: : | E21: =L6 -> 20 | F21: =N11 -> 25 | G21: : | H21: =L11 -> 22 | I21: =N16 -> 22 | J21: : | K21: =L16 -> 25 | O21: =AH7 -> 23 | P21: : | Q21: =AJ7 -> 25
C22: =N7 -> 0 | D22: : | E22: =L7 -> 0 | F22: =N12 -> 0 | G22: : | H22: =L12 -> 0 | I22: =N17 -> 0 | J22: : | K22: =L17 -> 0 | O22: =AK7 -> 0 | P22: : | Q22: =AM7 -> 0 | R22: =O23+I23+F23+C23 -> 177 | S22: : | T22: =Q23+K23+H23+E23 -> 176
C23: =SUM(C20:C22) -> 50 | D23: : | E23: =SUM(E20:E22) -> 37 | F23: =SUM(F20:F22) -> 50 | G23: : | H23: =SUM(H20:H22) -> 39 | I23: =SUM(I20:I22) -> 37 | J23: : | K23: =SUM(K20:K22) -> 50 | O23: =SUM(O20:O22) -> 40 | P23: : | Q23: =SUM(Q20:Q22) -> 50
B24: =TÝMY!B8 -> Moravská sebranka | C24: =Q4 -> 2 | D24: : | E24: =O4 -> 0 | F24: =Q9 -> 1 | G24: : | H24: =O9 -> 1 | I24: =Q14 -> 0 | J24: : | K24: =O14 -> 2 | L24: =Q19 -> 2 | M24: : | N24: =O19 -> 0 | R24: =L24+I24+F24+C24 -> 5 | S24: : | T24: =N24+K24+H24+E24 -> 3 | U24: =R24 -> 5 | V24: =R27/T27 -> 1.0764706 | W24: 2
C25: =Q5 -> 25 | D25: : | E25: =O5 -> 14 | F25: =Q10 -> 24 | G25: : | H25: =O10 -> 25 | I25: =Q15 -> 17 | J25: : | K25: =O15 -> 25 | L25: =Q20 -> 25 | M25: : | N25: =O20 -> 17
C26: =Q6 -> 25 | D26: : | E26: =O6 -> 18 | F26: =Q11 -> 25 | G26: : | H26: =O11 -> 23 | I26: =Q16 -> 17 | J26: : | K26: =O16 -> 25 | L26: =Q21 -> 25 | M26: : | N26: =O21 -> 23
C27: =Q7 -> 0 | D27: : | E27: =O7 -> 0 | F27: =Q12 -> 0 | G27: : | H27: =O12 -> 0 | I27: =Q17 -> 0 | J27: : | K27: =O17 -> 0 | L27: =Q22 -> 0 | M27: : | N27: =O22 -> 0 | R27: =L28+I28+F28+C28 -> 183 | S27: : | T27: =N28+K28+H28+E28 -> 170
C28: =SUM(C25:C27) -> 50 | D28: : | E28: =SUM(E25:E27) -> 32 | F28: =SUM(F25:F27) -> 49 | G28: : | H28: =SUM(H25:H27) -> 48 | I28: =SUM(I25:I27) -> 34 | J28: : | K28: =SUM(K25:K27) -> 50 | L28: =SUM(L25:L27) -> 50 | M28: : | N28: =SUM(N25:N27) -> 40

Sheet B - 5-ti členná skupina 
B2: Skupina č.B | C2: =B4 -> Lovci Tesáků | F2: =B9 -> Gin&Tonic | I2: =B14 -> Palkovice | L2: =B19 -> Green Volley Frýdek Místek | O2: =B24 -> Valmezáci | R2: Sety | U2: Body | V2: Poměr | W2: Umístění | Y2: Pořadí utkání | AB2: Sety | AE2: 1. set | AH2: 2. set | AK2: 3. set | AN2: Míče
R3: Míče | Y3: =B9 -> Gin&Tonic | Z3: - | AA3: =B24 -> Valmezáci | AB3: 1 | AC3: : | AD3: 1 | AE3: 20 | AF3: : | AG3: 25 | AH3: 25 | AI3: : | AJ3: 19 | AL3: : | AN3: =AE3+AH3+AK3 -> 45 | AO3: : | AP3: =AG3+AJ3+AM3 -> 44 | AQ3: 2 Topolánek
A4: B | B4: =TÝMY!B5 -> Lovci Tesáků | F4: =AB5 -> 1 | G4: : | H4: =AD5 -> 1 | I4: =AD8 -> 1 | J4: : | K4: =AB8 -> 1 | L4: =AB10 -> 1 | M4: : | N4: =AD10 -> 1 | O4: =AD11 -> 0 | P4: : | Q4: =AB11 -> 2 | R4: =F4+I4+L4+O4 -> 3 | S4: : | T4: =H4+K4+N4+Q4 -> 5 | U4: =R4 -> 3 | V4: =R7/T7 -> 0.95628415 | W4: 4 | Y4: =B14 -> Palkovice | Z4: - | AA4: =B19 -> Green Volley Frýdek Místek | AB4: 0 | AC4: : | AD4: 2 | AE4: 19 | AF4: : | AG4: 25 | AH4: 19 | AI4: : | AJ4: 25 | AL4: : | AN4: =AE4+AH4+AK4 -> 38 | AO4: : | AP4: =AG4+AJ4+AM4 -> 50 | AQ4: 3 Klívar
F5: =AE5 -> 22 | G5: : | H5: =AG5 -> 25 | I5: =AG8 -> 15 | J5: : | K5: =AE8 -> 25 | L5: =AE10 -> 25 | M5: : | N5: =AG10 -> 18 | O5: =AG11 -> 18 | P5: : | Q5: =AE11 -> 25 | Y5: =B4 -> Lovci Tesáků | Z5: - | AA5: =B9 -> Gin&Tonic | AB5: 1 | AC5: : | AD5: 1 | AE5: 22 | AF5: : | AG5: 25 | AH5: 25 | AI5: : | AJ5: 24 | AL5: : | AN5: =AE5+AH5+AK5 -> 47 | AO5: : | AP5: =AG5+AJ5+AM5 -> 49 | AQ5: 2 Antušák
F6: =AH5 -> 25 | G6: : | H6: =AJ5 -> 24 | I6: =AJ8 -> 25 | J6: : | K6: =AH8 -> 16 | L6: =AH10 -> 24 | M6: : | N6: =AJ10 -> 25 | O6: =AJ11 -> 21 | P6: : | Q6: =AH11 -> 25 | Y6: =B24 -> Valmezáci | Z6: - | AA6: =B14 -> Palkovice | AB6: 2 | AC6: : | AD6: 0 | AE6: 25 | AF6: : | AG6: 16 | AH6: 25 | AI6: : | AJ6: 24 | AL6: : | AN6: =AE6+AH6+AK6 -> 50 | AO6: : | AP6: =AG6+AJ6+AM6 -> 40 | AQ6: 3 Topolánek
F7: =AK5 -> 0 | G7: : | H7: =AM5 -> 0 | I7: =AM8 -> 0 | J7: : | K7: =AK8 -> 0 | L7: =AK10 -> 0 | M7: : | N7: =AM10 -> 0 | O7: =AM11 -> 0 | P7: : | Q7: =AK11 -> 0 | R7: =F8+I8+L8+O8 -> 175 | S7: : | T7: =H8+K8+N8+Q8 -> 183 | Y7: =B19 -> Green Volley Frýdek Místek | Z7: - | AA7: =B24 -> Valmezáci | AB7: 2 | AC7: : | AD7: 0 | AE7: 25 | AF7: : | AG7: 21 | AH7: 25 | AI7: : | AJ7: 24 | AL7: : | AN7: =AE7+AH7+AK7 -> 50 | AO7: : | AP7: =AG7+AJ7+AM7 -> 45 | AQ7: 2 Ištvánech
F8: =SUM(F5:F7) -> 47 | G8: : | H8: =SUM(H5:H7) -> 49 | I8: =SUM(I5:I7) -> 40 | J8: : | K8: =SUM(K5:K7) -> 41 | L8: =SUM(L5:L7) -> 49 | M8: : | N8: =SUM(N5:N7) -> 43 | O8: =O5+O6+O7 -> 39 | P8: : | Q8: =SUM(Q5:Q7) -> 50 | Y8: =B14 -> Palkovice | Z8: - | AA8: =B4 -> Lovci Tesáků | AB8: 1 | AC8: : | AD8: 1 | AE8: 25 | AF8: : | AG8: 15 | AH8: 16 | AI8: : | AJ8: 25 | AL8: : | AN8: =AE8+AH8+AK8 -> 41 | AO8: : | AP8: =AG8+AJ8+AM8 -> 40 | AQ8: 3 Topolánek
B9: =TÝMY!B4 -> Gin&Tonic | C9: =H4 -> 1 | D9: : | E9: =F4 -> 1 | I9: =AB9 -> 2 | J9: : | K9: =AD9 -> 0 | L9: =AD12 -> 0 | M9: : | N9: =AB12 -> 2 | O9: =AB3 -> 1 | P9: : | Q9: =AD3 -> 1 | R9: =O9+L9+I9+C9 -> 4 | S9: : | T9: =Q9+N9+K9+E9 -> 4 | U9: =R9 -> 4 | V9: =R12/T12 -> 1 | W9: 3 | Y9: =B9 -> Gin&Tonic | Z9: - | AA9: =B14 -> Palkovice | AB9: 2 | AC9: : | AD9: 0 | AE9: 25 | AF9: : | AG9: 22 | AH9: 25 | AI9: : | AJ9: 23 | AL9: : | AN9: =AE9+AH9+AK9 -> 50 | AO9: : | AP9: =AG9+AJ9+AM9 -> 45 | AQ9: 3 Ištvánech
C10: =H5 -> 25 | D10: : | E10: =F5 -> 22 | I10: =AE9 -> 25 | J10: : | K10: =AG9 -> 22 | L10: =AG12 -> 19 | M10: : | N10: =AE12 -> 25 | O10: =AE3 -> 20 | P10: : | Q10: =AG3 -> 25 | Y10: =B4 -> Lovci Tesáků | Z10: - | AA10: =B19 -> Green Volley Frýdek Místek | AB10: 1 | AC10: : | AD10: 1 | AE10: 25 | AF10: : | AG10: 18 | AH10: 24 | AI10: : | AJ10: 25 | AL10: : | AN10: =AE10+AH10+AK10 -> 49 | AO10: : | AP10: =AG10+AJ10+AM10 -> 43 | AQ10: 5 Klívar
C11: =H6 -> 24 | D11: : | E11: =F6 -> 25 | I11: =AH9 -> 25 | J11: : | K11: =AJ9 -> 23 | L11: =AJ12 -> 23 | M11: : | N11: =AH12 -> 25 | O11: =AH3 -> 25 | P11: : | Q11: =AJ3 -> 19 | Y11: =B24 -> Valmezáci | Z11: - | AA11: =B4 -> Lovci Tesáků | AB11: 2 | AC11: : | AD11: 0 | AE11: 25 | AF11: : | AG11: 18 | AH11: 25 | AI11: : | AJ11: 21 | AL11: : | AN11: =AE11+AH11+AK11 -> 50 | AO11: : | AP11: =AG11+AJ11+AM11 -> 39 | AQ11: 5 Grabovský
C12: =H7 -> 0 | D12: : | E12: =F7 -> 0 | I12: =AK9 -> 0 | J12: : | K12: =AM9 -> 0 | L12: =AM12 -> 0 | M12: : | N12: =AK12 -> 0 | O12: =AK3 -> 0 | P12: : | Q12: =AM3 -> 0 | R12: =O13+L13+I13+C13 -> 186 | S12: : | T12: =Q13+N13++K13+E13 -> 186 | Y12: =B19 -> Green Volley Frýdek Místek | Z12: - | AA12: =B9 -> Gin&Tonic | AB12: 2 | AC12: : | AD12: 0 | AE12: 25 | AF12: : | AG12: 19 | AH12: 25 | AI12: : | AJ12: 23 | AL12: : | AN12: =AE12+AH12+AK12 -> 50 | AO12: : | AP12: =AG12+AJ12+AM12 -> 42 | AQ12: 3 Klívar
C13: =SUM(C10:C12) -> 49 | D13: : | E13: =SUM(E10:E12) -> 47 | I13: =SUM(I10:I12) -> 50 | J13: : | K13: =SUM(K10:K12) -> 45 | L13: =SUM(L10:L12) -> 42 | M13: : | N13: =AN12 -> 50 | O13: =SUM(O10:O12) -> 45 | P13: : | Q13: =SUM(Q10:Q12) -> 44
B14: =TÝMY!B6 -> Palkovice | C14: =K4 -> 1 | D14: : | E14: =I4 -> 1 | F14: =K9 -> 0 | G14: : | H14: =I9 -> 2 | L14: =AB4 -> 0 | M14: : | N14: =AD4 -> 2 | O14: =AD6 -> 0 | P14: : | Q14: =AB6 -> 2 | R14: =O14+L14+F14+C14 -> 1 | S14: : | T14: =Q14+N14+H14+E14 -> 7 | U14: =R14 -> 1 | V14: =R17/T17 -> 0.86315789 | W14: 5
C15: =K5 -> 25 | D15: : | E15: =I5 -> 15 | F15: =K10 -> 22 | G15: : | H15: =I10 -> 25 | L15: =AE4 -> 19 | M15: : | N15: =AG4 -> 25 | O15: =AG6 -> 16 | P15: : | Q15: =AE6 -> 25
C16: =K6 -> 16 | D16: : | E16: =I6 -> 25 | F16: =K11 -> 23 | G16: : | H16: =I11 -> 25 | L16: =AH4 -> 19 | M16: : | N16: =AJ4 -> 25 | O16: =AJ6 -> 24 | P16: : | Q16: =AH6 -> 25
C17: =K7 -> 0 | D17: : | E17: =I7 -> 0 | F17: =K12 -> 0 | G17: : | H17: =I12 -> 0 | L17: =AK4 -> 0 | M17: : | N17: =AM4 -> 0 | O17: =AM6 -> 0 | P17: : | Q17: =AK6 -> 0 | R17: =O18+L18+F18+C18 -> 164 | S17: : | T17: =Q18+N18+H18+E18 -> 190
C18: =SUM(C15:C17) -> 41 | D18: : | E18: =SUM(E15:E17) -> 40 | F18: =SUM(F15:F17) -> 45 | G18: : | H18: =SUM(H15:H17) -> 50 | L18: =SUM(L15:L17) -> 38 | M18: : | N18: =SUM(N15:N17) -> 50 | O18: =SUM(O15:O17) -> 40 | P18: : | Q18: =SUM(Q15:Q17) -> 50
B19: =TÝMY!B10 -> Green Volley Frýdek Místek | C19: =N4 -> 1 | D19: : | E19: =L4 -> 1 | F19: =N9 -> 2 | G19: : | H19: =L9 -> 0 | I19: =N14 -> 2 | J19: : | K19: =L14 -> 0 | O19: =AB7 -> 2 | P19: : | Q19: =AD7 -> 0 | R19: =O19+I19+F19+C19 -> 7 | S19: : | T19: =Q19+K19+H19+E19 -> 1 | U19: =R19 -> 7 | V19: =R22/T22 -> 1.1091954 | W19: 1
C20: =N5 -> 18 | D20: : | E20: =L5 -> 25 | F20: =N10 -> 25 | G20: : | H20: =L10 -> 19 | I20: =N15 -> 25 | J20: : | K20: =L15 -> 19 | O20: =AE7 -> 25 | P20: : | Q20: =AG7 -> 21
C21: =N6 -> 25 | D21: : | E21: =L6 -> 24 | F21: =N11 -> 25 | G21: : | H21: =L11 -> 23 | I21: =N16 -> 25 | J21: : | K21: =L16 -> 19 | O21: =AH7 -> 25 | P21: : | Q21: =AJ7 -> 24
C22: =N7 -> 0 | D22: : | E22: =L7 -> 0 | F22: =N12 -> 0 | G22: : | H22: =L12 -> 0 | I22: =N17 -> 0 | J22: : | K22: =L17 -> 0 | O22: =AK7 -> 0 | P22: : | Q22: =AM7 -> 0 | R22: =O23+I23+F23+C23 -> 193 | S22: : | T22: =Q23+K23+H23+E23 -> 174
C23: =SUM(C20:C22) -> 43 | D23: : | E23: =SUM(E20:E22) -> 49 | F23: =SUM(F20:F22) -> 50 | G23: : | H23: =SUM(H20:H22) -> 42 | I23: =SUM(I20:I22) -> 50 | J23: : | K23: =SUM(K20:K22) -> 38 | O23: =SUM(O20:O22) -> 50 | P23: : | Q23: =SUM(Q20:Q22) -> 45
B24: =TÝMY!B7 -> Valmezáci | C24: =Q4 -> 2 | D24: : | E24: =O4 -> 0 | F24: =Q9 -> 1 | G24: : | H24: =O9 -> 1 | I24: =Q14 -> 2 | J24: : | K24: =O14 -> 0 | L24: =Q19 -> 0 | M24: : | N24: =O19 -> 2 | R24: =L24+I24+F24+C24 -> 5 | S24: : | T24: =N24+K24+H24+E24 -> 3 | U24: =R24 -> 5 | V24: =R27/T27 -> 1.0862069 | W24: 2
C25: =Q5 -> 25 | D25: : | E25: =O5 -> 18 | F25: =Q10 -> 25 | G25: : | H25: =O10 -> 20 | I25: =Q15 -> 25 | J25: : | K25: =O15 -> 16 | L25: =Q20 -> 21 | M25: : | N25: =O20 -> 25
C26: =Q6 -> 25 | D26: : | E26: =O6 -> 21 | F26: =Q11 -> 19 | G26: : | H26: =O11 -> 25 | I26: =Q16 -> 25 | J26: : | K26: =O16 -> 24 | L26: =Q21 -> 24 | M26: : | N26: =O21 -> 25
C27: =Q7 -> 0 | D27: : | E27: =O7 -> 0 | F27: =Q12 -> 0 | G27: : | H27: =O12 -> 0 | I27: =Q17 -> 0 | J27: : | K27: =O17 -> 0 | L27: =Q22 -> 0 | M27: : | N27: =O22 -> 0 | R27: =L28+I28+F28+C28 -> 189 | S27: : | T27: =N28+K28+H28+E28 -> 174
C28: =SUM(C25:C27) -> 50 | D28: : | E28: =SUM(E25:E27) -> 39 | F28: =SUM(F25:F27) -> 44 | G28: : | H28: =SUM(H25:H27) -> 45 | I28: =SUM(I25:I27) -> 50 | J28: : | K28: =SUM(K25:K27) -> 40 | L28: =SUM(L25:L27) -> 45 | M28: : | N28: =SUM(N25:N27) -> 50

Sheet finále, umístění
B2: Čtvrtfinále | E2: Sety | H2: 1. set | K2: 2. set | N2: 3. set | Q2: Míče
A3: 1. | B3: Vamos Rafa | C3: - | D3: Lovci Tesáků | E3: 2 | F3: : | G3: 0 | H3: 25 | I3: : | J3: 20 | K3: 25 | L3: : | M3: 19 | O3: : | Q3: =H3+K3+N3 -> 50 | R3: : | S3: =J3+M3+P3 -> 39 | T3: 2 Klívar
A4: 2. | B4: Green Volley | C4: - | D4: Zverimex | E4: 2 | F4: : | G4: 0 | H4: 25 | I4: : | J4: 24 | K4: 25 | L4: : | M4: 12 | O4: : | Q4: =H4+K4+N4 -> 50 | R4: : | S4: =J4+M4+P4 -> 36 | T4: 4 Ištvánech
A5: 3. | B5: Moravská sebranka | C5: - | D5: Gin Tonic | E5: 2 | F5: : | G5: 0 | H5: 25 | I5: : | J5: 24 | K5: 25 | L5: : | M5: 18 | O5: : | Q5: =H5+K5+N5 -> 50 | S5: =J5+M5+P5 -> 42 | T5: 3 Antušák
A6: 4. | B6: Valmezáci | C6: - | D6: Metylovice | E6: 2 | F6: : | G6: 0 | H6: 25 | I6: : | J6: 21 | K6: 25 | L6: : | M6: 23 | O6: : | Q6: =H6+K6+N6 -> 50 | S6: =J6+M6+P6 -> 44 | T6: 5 Topolánek
B8: Semifinále | E8: Sety | H8: 1. set | K8: 2. set | N8: 3. set | Q8: Míče
B9: Vamos Rafa | C9: - | D9: Valmezáci | E9: 2 | F9: : | G9: 1 | H9: 23 | I9: : | J9: 25 | K9: 25 | L9: : | M9: 24 | N9: 15 | O9: : | P9: 13 | Q9: =H9+K9+N9 -> 63 | R9: : | S9: =J9+M9+P9 -> 62 | T9: 4 Grabovský
B10: Green Volley | C10: - | D10: Moravská sebranka | E10: 2 | F10: : | G10: 0 | H10: 25 | I10: : | J10: 21 | K10: 25 | L10: : | M10: 22 | O10: : | Q10: =H10+K10+N10 -> 50 | R10: : | S10: =J10+M10+P10 -> 43 | T10: 5 Antušák
B12: finále o 1. místo | E12: Sety | H12: 1. set | K12: 2. set | N12: 3. set | Q12: Míče
B13: Vamos Rafa | C13: - | D13: Green Volley | E13: 0 | F13: : | G13: 2 | H13: 22 | I13: : | J13: 25 | K13: 24 | L13: : | M13: 26 | O13: : | Q13: 46 | R13: : | S13: =J13+M13+P13 -> 51 | T13: 5 Grabovský, Topolánek
B15: finále o 3. místo | E15: Sety | H15: 1. set | K15: 2. set | N15: 3. set | Q15: Míče
B16: Valmezáci | C16: - | D16: Moravská sebranka | E16: 0 | F16: : | G16: 2 | H16: 18 | I16: : | J16: 25 | K16: 23 | L16: : | M16: 25 | O16: : | Q16: =H16+K16+N16 -> 41 | R16: : | S16: =J16+M16+P16 -> 50 | T16: 4 Ištvánech, Klívar
B20: Pořadí
A21: 1. | B21: Green Volley
A22: 2. | B22: Vamos Rafa
A23: 3. | B23: Moravská sebranka
A24: 4. | B24: Valmezáci
A25: 5.
A26: 6.
A27: 7.
A28: 8.

Sheet A-4 členná skupina
A2: Skupina č.A | B2: =A4 -> Vamos Rafa | E2: =A9 -> Metylky | H2: =A14 -> Zverimex u suchý dásně | K2: =A19 -> Moravská sebranka | N2: Sety | Q2: Body | R2: Poměr | S2: Umístění | Y2: Pořadí utkání | AB2: Sety | AE2: 1. set | AH2: 2. set | AK2: 3. set | AN2: Míče
N3: Míče | Y3: =A4 -> Vamos Rafa | Z3: - | AA3: =A19 -> Moravská sebranka | AC3: : | AF3: : | AI3: : | AL3: : | AN3: =AK3+AH3+AE3 -> 0 | AO3: : | AP3: =AM3+AJ3+AG3 -> 0
A4: =TÝMY!B3 -> Vamos Rafa | E4: =AB6 -> 0 | F4: : | G4: =AD6 -> 0 | H4: =AD8 -> 0 | I4: : | J4: =AB8 -> 0 | K4: =AB3 -> 0 | L4: : | M4: =AD3 -> 0 | N4: =E4+H4+K4 -> 0 | O4: : | P4: =G4+J4+M4 -> 0 | Q4: =N4 -> 0 | R4: =N7/P7 -> #DIV/0! | Y4: =A9 -> Metylky | Z4: - | AA4: =A14 -> Zverimex u suchý dásně | AC4: : | AF4: : | AI4: : | AL4: : | AN4: =AK4+AH4+AE4 -> 0 | AO4: : | AP4: =AM4+AJ4+AG4 -> 0
E5: =AE6 -> 0 | F5: : | G5: =AG6 -> 0 | H5: =AG8 -> 0 | I5: : | J5: =AE8 -> 0 | K5: =AE3 -> 0 | L5: : | M5: =AG3 -> 0 | Y5: =A19 -> Moravská sebranka | Z5: - | AA5: =A14 -> Zverimex u suchý dásně | AC5: : | AF5: : | AI5: : | AL5: : | AN5: =AK5+AH5+AE5 -> 0 | AO5: : | AP5: =AM5+AJ5+AG5 -> 0
E6: =AH6 -> 0 | F6: : | G6: =AJ6 -> 0 | H6: =AJ8 -> 0 | I6: : | J6: =AH8 -> 0 | K6: =AH3 -> 0 | L6: : | M6: =AJ3 -> 0 | Y6: =A4 -> Vamos Rafa | Z6: - | AA6: =A9 -> Metylky | AC6: : | AF6: : | AI6: : | AL6: : | AN6: =AK6+AH6+AE6 -> 0 | AO6: : | AP6: =AM6+AJ6+AG6 -> 0
E7: =AK6 -> 0 | F7: : | G7: =AM6 -> 0 | H7: =AM8 -> 0 | I7: : | J7: =AK8 -> 0 | K7: =AK3 -> 0 | L7: : | M7: =AM3 -> 0 | N7: =E8+H8+K8 -> 0 | O7: : | P7: =G8+J8+M8 -> 0 | Y7: =A9 -> Metylky | Z7: - | AA7: =A19 -> Moravská sebranka | AC7: : | AF7: : | AI7: : | AL7: : | AN7: =AK7+AH7+AE7 -> 0 | AO7: : | AP7: =AM7+AJ7+AG7 -> 0
E8: =SUM(E5:E7) -> 0 | F8: : | G8: =SUM(G5:G7) -> 0 | H8: =SUM(H5:H7) -> 0 | I8: : | J8: =SUM(J5:J7) -> 0 | K8: =SUM(K5:K7) -> 0 | L8: : | M8: =SUM(M5:M7) -> 0 | Y8: =A14 -> Zverimex u suchý dásně | Z8: - | AA8: =A4 -> Vamos Rafa | AC8: : | AF8: : | AI8: : | AL8: : | AN8: =AK8+AH8+AE8 -> 0 | AO8: : | AP8: =AM8+AJ8+AG8 -> 0
A9: =TÝMY!B9 -> Metylky | B9: =G4 -> 0 | C9: : | D9: =E4 -> 0 | H9: =AB4 -> 0 | I9: : | J9: =AD4 -> 0 | K9: =AB7 -> 0 | L9: : | M9: =AD7 -> 0 | N9: =K9+H9+B9 -> 0 | O9: : | P9: =M9+J9+D9 -> 0 | Q9: =N9 -> 0 | R9: =N12/P12 -> #DIV/0!
B10: =G5 -> 0 | C10: : | D10: =E5 -> 0 | H10: =AE4 -> 0 | I10: : | J10: =AG4 -> 0 | K10: =AE7 -> 0 | L10: : | M10: =AG7 -> 0
B11: =G6 -> 0 | C11: : | D11: =E6 -> 0 | H11: =AH4 -> 0 | I11: : | J11: =AJ4 -> 0 | K11: =AH7 -> 0 | L11: : | M11: =AJ7 -> 0
B12: =G7 -> 0 | C12: : | D12: =E7 -> 0 | H12: =AK4 -> 0 | I12: : | J12: =AM4 -> 0 | K12: =AK7 -> 0 | L12: : | M12: =AM7 -> 0 | N12: =K13+H13+B13 -> 0 | O12: : | P12: =M13+J13+D13 -> 0
B13: =SUM(B10:B12) -> 0 | C13: : | D13: =SUM(D10:D12) -> 0 | H13: =SUM(H10:H12) -> 0 | I13: : | J13: =SUM(J10:J12) -> 0 | K13: =SUM(K10:K12) -> 0 | L13: : | M13: =SUM(M10:M12) -> 0
A14: =TÝMY!B11 -> Zverimex u suchý dásně | B14: =J4 -> 0 | C14: : | D14: =H4 -> 0 | E14: =J9 -> 0 | F14: : | G14: =H9 -> 0 | K14: =AD5 -> 0 | L14: : | M14: =AB5 -> 0 | N14: =K14+E14+B14 -> 0 | O14: : | P14: =M14+G14+D14 -> 0 | Q14: =N14 -> 0 | R14: =N17/P17 -> #DIV/0!
B15: =J5 -> 0 | C15: : | D15: =H5 -> 0 | E15: =J10 -> 0 | F15: : | G15: =H10 -> 0 | K15: =AG5 -> 0 | L15: : | M15: =AE5 -> 0
B16: =J6 -> 0 | C16: : | D16: =H6 -> 0 | E16: =J11 -> 0 | F16: : | G16: =H11 -> 0 | K16: =AJ5 -> 0 | L16: : | M16: =AH5 -> 0
B17: =J7 -> 0 | C17: : | D17: =H7 -> 0 | E17: =J12 -> 0 | F17: : | G17: =H12 -> 0 | K17: =AM5 -> 0 | L17: : | M17: =AK5 -> 0 | N17: =K18+E18+B18 -> 0 | O17: : | P17: =M18+G18+D18 -> 0
B18: =SUM(B15:B17) -> 0 | C18: : | D18: =SUM(D15:D17) -> 0 | E18: =SUM(E15:E17) -> 0 | F18: : | G18: =SUM(G15:G17) -> 0 | K18: =SUM(K15:K17) -> 0 | L18: : | M18: =SUM(M15:M17) -> 0
A19: =TÝMY!B8 -> Moravská sebranka | B19: =M4 -> 0 | C19: : | D19: =K4 -> 0 | E19: =M9 -> 0 | F19: : | G19: =K9 -> 0 | H19: =M14 -> 0 | I19: : | J19: =K14 -> 0 | N19: =H19+E19+B19 -> 0 | O19: : | P19: =J19+G19+D19 -> 0 | Q19: =N19 -> 0 | R19: =N22/P22 -> #DIV/0!
B20: =M5 -> 0 | C20: : | D20: =K5 -> 0 | E20: =M10 -> 0 | F20: : | G20: =K10 -> 0 | H20: =M15 -> 0 | I20: : | J20: =K15 -> 0
B21: =M6 -> 0 | C21: : | D21: =K6 -> 0 | E21: =M11 -> 0 | F21: : | G21: =K11 -> 0 | H21: =M16 -> 0 | I21: : | J21: =K16 -> 0
B22: =M7 -> 0 | C22: : | D22: =K7 -> 0 | E22: =M12 -> 0 | F22: : | G22: =K12 -> 0 | H22: =M17 -> 0 | I22: : | J22: =K17 -> 0 | N22: =H23+E23+B23 -> 0 | O22: : | P22: =J23+G23+D23 -> 0
B23: =SUM(B20:B22) -> 0 | C23: : | D23: =SUM(D20:D22) -> 0 | E23: =SUM(E20:E22) -> 0 | F23: : | G23: =SUM(G20:G22) -> 0 | H23: =SUM(H20:H22) -> 0 | I23: : | J23: =SUM(J20:J22) -> 0

Sheet XX - 5-ti členná skupina
B2: Skupina č.B | C2: =B4 -> Kačičky | F2: =B9 -> Vamos Rafa | I2: =B14 -> #REF! | L2: =B19 -> #REF! | O2: =B24 -> #REF! | R2: Sety | U2: Body | V2: Poměr | W2: Umístění | Y2: Pořadí utkání | AB2: Sety | AE2: 1. set | AH2: 2. set | AK2: 3. set | AN2: Míče
R3: Míče | Y3: =B9 -> Vamos Rafa | Z3: - | AA3: =B24 -> #REF! | AB3: 1 | AC3: : | AD3: 1 | AE3: 23 | AF3: : | AG3: 25 | AH3: 25 | AI3: : | AJ3: 24 | AL3: : | AN3: =AE3+AH3+AK3 -> 48 | AO3: : | AP3: =AG3+AJ3+AM3 -> 49 | AQ3: 4 | AR3: Grabovský
A4: C | B4: Kačičky | F4: =AB5 -> 0 | G4: : | H4: =AD5 -> 0 | I4: =AD8 -> 0 | J4: : | K4: =AB8 -> 0 | L4: =AB10 -> 0 | M4: : | N4: =AD10 -> 0 | O4: =AD11 -> 0 | P4: : | Q4: =AB11 -> 0 | R4: =F4+I4+L4+O4 -> 0 | S4: : | T4: =H4+K4+N4+Q4 -> 0 | U4: =R4 -> 0 | V4: =R7/T7 -> #DIV/0! | Y4: =B14 -> #REF! | Z4: - | AA4: =B19 -> #REF! | AC4: : | AF4: : | AI4: : | AL4: : | AN4: =AE4+AH4+AK4 -> 0 | AO4: : | AP4: =AG4+AJ4+AM4 -> 0
F5: =AE5 -> 0 | G5: : | H5: =AG5 -> 0 | I5: =AG8 -> 0 | J5: : | K5: =AE8 -> 0 | L5: =AE10 -> 0 | M5: : | N5: =AG10 -> 0 | O5: =AG11 -> 0 | P5: : | Q5: =AE11 -> 0 | Y5: =B4 -> Kačičky | Z5: - | AA5: =B9 -> Vamos Rafa | AC5: : | AF5: : | AI5: : | AL5: : | AN5: =AE5+AH5+AK5 -> 0 | AO5: : | AP5: =AG5+AJ5+AM5 -> 0
F6: =AH5 -> 0 | G6: : | H6: =AJ5 -> 0 | I6: =AJ8 -> 0 | J6: : | K6: =AH8 -> 0 | L6: =AH10 -> 0 | M6: : | N6: =AJ10 -> 0 | O6: =AJ11 -> 0 | P6: : | Q6: =AH11 -> 0 | Y6: =B24 -> #REF! | Z6: - | AA6: =B14 -> #REF! | AC6: : | AF6: : | AI6: : | AL6: : | AN6: =AE6+AH6+AK6 -> 0 | AO6: : | AP6: =AG6+AJ6+AM6 -> 0
F7: =AK5 -> 0 | G7: : | H7: =AM5 -> 0 | I7: =AM8 -> 0 | J7: : | K7: =AK8 -> 0 | L7: =AK10 -> 0 | M7: : | N7: =AM10 -> 0 | O7: =AM11 -> 0 | P7: : | Q7: =AK11 -> 0 | R7: =F8+I8+L8+O8 -> 0 | S7: : | T7: =H8+K8+N8+Q8 -> 0 | Y7: =B19 -> #REF! | Z7: - | AA7: =B24 -> #REF! | AC7: : | AF7: : | AI7: : | AL7: : | AN7: =AE7+AH7+AK7 -> 0 | AO7: : | AP7: =AG7+AJ7+AM7 -> 0
F8: =SUM(F5:F7) -> 0 | G8: : | H8: =SUM(H5:H7) -> 0 | I8: =SUM(I5:I7) -> 0 | J8: : | K8: =SUM(K5:K7) -> 0 | L8: =SUM(L5:L7) -> 0 | M8: : | N8: =SUM(N5:N7) -> 0 | O8: =O5+O6+O7 -> 0 | P8: : | Q8: =SUM(Q5:Q7) -> 0 | Y8: =B14 -> #REF! | Z8: - | AA8: =B4 -> Kačičky | AC8: : | AF8: : | AI8: : | AL8: : | AN8: =AE8+AH8+AK8 -> 0 | AO8: : | AP8: =AG8+AJ8+AM8 -> 0
B9: Vamos Rafa | C9: =H4 -> 0 | D9: : | E9: =F4 -> 0 | I9: =AB9 -> 0 | J9: : | K9: =AD9 -> 0 | L9: =AD12 -> 0 | M9: : | N9: =AB12 -> 0 | O9: =AB3 -> 1 | P9: : | Q9: =AD3 -> 1 | R9: =O9+L9+I9+C9 -> 1 | S9: : | T9: =Q9+N9+K9+E9 -> 1 | U9: =R9 -> 1 | V9: =R12/T12 -> 0.97959184 | Y9: =B9 -> Vamos Rafa | Z9: - | AA9: =B14 -> #REF! | AC9: : | AF9: : | AI9: : | AL9: : | AN9: =AE9+AH9+AK9 -> 0 | AO9: : | AP9: =AG9+AJ9+AM9 -> 0
C10: =H5 -> 0 | D10: : | E10: =F5 -> 0 | I10: =AE9 -> 0 | J10: : | K10: =AG9 -> 0 | L10: =AG12 -> 0 | M10: : | N10: =AE12 -> 0 | O10: =AE3 -> 23 | P10: : | Q10: =AG3 -> 25 | Y10: =B4 -> Kačičky | Z10: - | AA10: =B19 -> #REF! | AC10: : | AF10: : | AI10: : | AL10: : | AN10: =AE10+AH10+AK10 -> 0 | AO10: : | AP10: =AG10+AJ10+AM10 -> 0
C11: =H6 -> 0 | D11: : | E11: =F6 -> 0 | I11: =AH9 -> 0 | J11: : | K11: =AJ9 -> 0 | L11: =AJ12 -> 0 | M11: : | N11: =AH12 -> 0 | O11: =AH3 -> 25 | P11: : | Q11: =AJ3 -> 24 | Y11: =B24 -> #REF! | Z11: - | AA11: =B4 -> Kačičky | AC11: : | AF11: : | AI11: : | AL11: : | AN11: =AE11+AH11+AK11 -> 0 | AO11: : | AP11: =AG11+AJ11+AM11 -> 0
C12: =H7 -> 0 | D12: : | E12: =F7 -> 0 | I12: =AK9 -> 0 | J12: : | K12: =AM9 -> 0 | L12: =AM12 -> 0 | M12: : | N12: =AK12 -> 0 | O12: =AK3 -> 0 | P12: : | Q12: =AM3 -> 0 | R12: =O13+L13+I13+C13 -> 48 | S12: : | T12: =Q13+N13++K13+E13 -> 49 | Y12: =B19 -> #REF! | Z12: - | AA12: =B9 -> Vamos Rafa | AC12: : | AF12: : | AI12: : | AL12: : | AN12: =AE12+AH12+AK12 -> 0 | AO12: : | AP12: =AG12+AJ12+AM12 -> 0
C13: =SUM(C10:C12) -> 0 | D13: : | E13: =SUM(E10:E12) -> 0 | I13: =SUM(I10:I12) -> 0 | J13: : | K13: =SUM(K10:K12) -> 0 | L13: =SUM(L10:L12) -> 0 | M13: : | N13: =AN12 -> 0 | O13: =SUM(O10:O12) -> 48 | P13: : | Q13: =SUM(Q10:Q12) -> 49
B14: =TÝMY!#REF! -> #REF! | C14: =K4 -> 0 | D14: : | E14: =I4 -> 0 | F14: =K9 -> 0 | G14: : | H14: =I9 -> 0 | L14: =AB4 -> 0 | M14: : | N14: =AD4 -> 0 | O14: =AD6 -> 0 | P14: : | Q14: =AB6 -> 0 | R14: =O14+L14+F14+C14 -> 0 | S14: : | T14: =Q14+N14+H14+E14 -> 0 | U14: =R14 -> 0 | V14: =R17/T17 -> #DIV/0!
C15: =K5 -> 0 | D15: : | E15: =I5 -> 0 | F15: =K10 -> 0 | G15: : | H15: =I10 -> 0 | L15: =AE4 -> 0 | M15: : | N15: =AG4 -> 0 | O15: =AG6 -> 0 | P15: : | Q15: =AE6 -> 0
C16: =K6 -> 0 | D16: : | E16: =I6 -> 0 | F16: =K11 -> 0 | G16: : | H16: =I11 -> 0 | L16: =AH4 -> 0 | M16: : | N16: =AJ4 -> 0 | O16: =AJ6 -> 0 | P16: : | Q16: =AH6 -> 0
C17: =K7 -> 0 | D17: : | E17: =I7 -> 0 | F17: =K12 -> 0 | G17: : | H17: =I12 -> 0 | L17: =AK4 -> 0 | M17: : | N17: =AM4 -> 0 | O17: =AM6 -> 0 | P17: : | Q17: =AK6 -> 0 | R17: =O18+L18+F18+C18 -> 0 | S17: : | T17: =Q18+N18+H18+E18 -> 0
C18: =SUM(C15:C17) -> 0 | D18: : | E18: =SUM(E15:E17) -> 0 | F18: =SUM(F15:F17) -> 0 | G18: : | H18: =SUM(H15:H17) -> 0 | L18: =SUM(L15:L17) -> 0 | M18: : | N18: =SUM(N15:N17) -> 0 | O18: =SUM(O15:O17) -> 0 | P18: : | Q18: =SUM(Q15:Q17) -> 0
B19: =TÝMY!#REF! -> #REF! | C19: =N4 -> 0 | D19: : | E19: =L4 -> 0 | F19: =N9 -> 0 | G19: : | H19: =L9 -> 0 | I19: =N14 -> 0 | J19: : | K19: =L14 -> 0 | O19: =AB7 -> 0 | P19: : | Q19: =AD7 -> 0 | R19: =O19+I19+F19+C19 -> 0 | S19: : | T19: =Q19+K19+H19+E19 -> 0 | U19: =R19 -> 0 | V19: =R22/T22 -> #DIV/0!
C20: =N5 -> 0 | D20: : | E20: =L5 -> 0 | F20: =N10 -> 0 | G20: : | H20: =L10 -> 0 | I20: =N15 -> 0 | J20: : | K20: =L15 -> 0 | O20: =AE7 -> 0 | P20: : | Q20: =AG7 -> 0
C21: =N6 -> 0 | D21: : | E21: =L6 -> 0 | F21: =N11 -> 0 | G21: : | H21: =L11 -> 0 | I21: =N16 -> 0 | J21: : | K21: =L16 -> 0 | O21: =AH7 -> 0 | P21: : | Q21: =AJ7 -> 0
C22: =N7 -> 0 | D22: : | E22: =L7 -> 0 | F22: =N12 -> 0 | G22: : | H22: =L12 -> 0 | I22: =N17 -> 0 | J22: : | K22: =L17 -> 0 | O22: =AK7 -> 0 | P22: : | Q22: =AM7 -> 0 | R22: =O23+I23+F23+C23 -> 0 | S22: : | T22: =Q23+K23+H23+E23 -> 0
C23: =SUM(C20:C22) -> 0 | D23: : | E23: =SUM(E20:E22) -> 0 | F23: =SUM(F20:F22) -> 0 | G23: : | H23: =SUM(H20:H22) -> 0 | I23: =SUM(I20:I22) -> 0 | J23: : | K23: =SUM(K20:K22) -> 0 | O23: =SUM(O20:O22) -> 0 | P23: : | Q23: =SUM(Q20:Q22) -> 0
B24: =TÝMY!#REF! -> #REF! | C24: =Q4 -> 0 | D24: : | E24: =O4 -> 0 | F24: =Q9 -> 1 | G24: : | H24: =O9 -> 1 | I24: =Q14 -> 0 | J24: : | K24: =O14 -> 0 | L24: =Q19 -> 0 | M24: : | N24: =O19 -> 0 | R24: =L24+I24+F24+C24 -> 1 | S24: : | T24: =N24+K24+H24+E24 -> 1 | U24: =R24 -> 1 | V24: =R27/T27 -> 1.0208333
C25: =Q5 -> 0 | D25: : | E25: =O5 -> 0 | F25: =Q10 -> 25 | G25: : | H25: =O10 -> 23 | I25: =Q15 -> 0 | J25: : | K25: =O15 -> 0 | L25: =Q20 -> 0 | M25: : | N25: =O20 -> 0
C26: =Q6 -> 0 | D26: : | E26: =O6 -> 0 | F26: =Q11 -> 24 | G26: : | H26: =O11 -> 25 | I26: =Q16 -> 0 | J26: : | K26: =O16 -> 0 | L26: =Q21 -> 0 | M26: : | N26: =O21 -> 0
C27: =Q7 -> 0 | D27: : | E27: =O7 -> 0 | F27: =Q12 -> 0 | G27: : | H27: =O12 -> 0 | I27: =Q17 -> 0 | J27: : | K27: =O17 -> 0 | L27: =Q22 -> 0 | M27: : | N27: =O22 -> 0 | R27: =L28+I28+F28+C28 -> 49 | S27: : | T27: =N28+K28+H28+E28 -> 48
C28: =SUM(C25:C27) -> 0 | D28: : | E28: =SUM(E25:E27) -> 0 | F28: =SUM(F25:F27) -> 49 | G28: : | H28: =SUM(H25:H27) -> 48 | I28: =SUM(I25:I27) -> 0 | J28: : | K28: =SUM(K25:K27) -> 0 | L28: =SUM(L25:L27) -> 0 | M28: : | N28: =SUM(N25:N27) -> 0
